BEGIN:VCALENDAR
VERSION:2.0
PRODID:-//Wayne E. Gustafson, DMin, LMHC - Education - ECPv6.15.20//NONSGML v1.0//EN
CALSCALE:GREGORIAN
METHOD:PUBLISH
X-WR-CALNAME:Wayne E. Gustafson, DMin, LMHC - Education
X-ORIGINAL-URL:https://wegustafson-dmin.entospress.com
X-WR-CALDESC:Events for Wayne E. Gustafson, DMin, LMHC - Education
REFRESH-INTERVAL;VALUE=DURATION:PT1H
X-Robots-Tag:noindex
X-PUBLISHED-TTL:PT1H
BEGIN:VTIMEZONE
TZID:UTC
BEGIN:STANDARD
TZOFFSETFROM:+0000
TZOFFSETTO:+0000
TZNAME:UTC
DTSTART:20210101T000000
END:STANDARD
END:VTIMEZONE
BEGIN:VTIMEZONE
TZID:America/New_York
BEGIN:DAYLIGHT
TZOFFSETFROM:-0500
TZOFFSETTO:-0400
TZNAME:EDT
DTSTART:20200308T070000
END:DAYLIGHT
BEGIN:STANDARD
TZOFFSETFROM:-0400
TZOFFSETTO:-0500
TZNAME:EST
DTSTART:20201101T060000
END:STANDARD
BEGIN:DAYLIGHT
TZOFFSETFROM:-0500
TZOFFSETTO:-0400
TZNAME:EDT
DTSTART:20210314T070000
END:DAYLIGHT
BEGIN:STANDARD
TZOFFSETFROM:-0400
TZOFFSETTO:-0500
TZNAME:EST
DTSTART:20211107T060000
END:STANDARD
BEGIN:DAYLIGHT
TZOFFSETFROM:-0500
TZOFFSETTO:-0400
TZNAME:EDT
DTSTART:20220313T070000
END:DAYLIGHT
BEGIN:STANDARD
TZOFFSETFROM:-0400
TZOFFSETTO:-0500
TZNAME:EST
DTSTART:20221106T060000
END:STANDARD
END:VTIMEZONE
BEGIN:VEVENT
DTSTART;TZID=UTC:20221028T130000
DTEND;TZID=UTC:20221130T170000
DTSTAMP:20260420T025741
CREATED:20220819T093510Z
LAST-MODIFIED:20220912T201110Z
UID:1237-1666962000-1669827600@wegustafson-dmin.entospress.com
SUMMARY:Spiritually Integrated Psychotherapy (SIP) Training (Rescheduled)
DESCRIPTION:Up to 30 NBCC CE Credit hours May be earned for this program. Also\, 30 NY CEUs are available for LMSW\, LCSW\, LMFT\, and LMHC.\nParticipants from other locations are also welcome to register. \nThe SIP training program is a multi-disciplinary\, inter-spiritual\, multi-racial community of persons gathered for education\, connection\, and formation in the work of spiritually integrated psychotherapy. It serves licensed and pre-licensed mental health professionals (i.e.\, counselors\, social workers\, marriage and family therapists\, pastoral counselors\, psychologists\, psychiatrists\, addiction specialists\, and more)\, as well as graduate students in any of those disciplines who seek to explore the ways spirituality\, religion\, and the search for meaning influence their own lives and the lives of their clients. \nThis ACPE SIP Training provides theoretical foundations and practical skills to help therapists integrate spirituality into their work in a deeply ethical way. The SIP Training consists of 10 three-hour courses and is open to licensed and pre-licensed mental health practitioners in mental health disciplines. See below for specific dates/times for each 3-hour course. \nClick here for a complete program description and learning objectives for each course. Cost for this online training is $800. A limited number of reduced fee seats are available for those in need. \nThis training is led by Wayne Gustafson and you can contact him for more SIP and registration information at dr.w.gustafson@gmail.com \nSession dates are as follows: \nCourse 1 Oct 28\, 2022 1 – 4 pm\nCourse 2 Oct 29\, 2022 9:30 am – 12:30 pm\nCourse 3 Oct 29\, 2022 1:30 – 4:30 pm\nCourse 4 Nov 4\, 2022 1 – 4 pm\nCourse 5 Nov 5\, 2022 9:30 am – 12:30 pm\nCourse 6 Nov 5\, 2022 1:30 – 4:30 pm\nCourse 7 Nov 11\, 2022 1 – 4 pm\nCourse 8 Nov 12\, 2022 9:30 am – 12:30 pm\nCourse 9 Nov 12\, 2022 1:30 – 4:30 pm\nCourse 10 TBS between November 18 and 30
URL:https://wegustafson-dmin.entospress.com/event/spiritually-integrated-psychotherapy-sip-training/
LOCATION:Zoom videoconferencing
END:VEVENT
BEGIN:VEVENT
DTSTART;TZID=UTC:20220412T130000
DTEND;TZID=UTC:20220412T150000
DTSTAMP:20260420T025741
CREATED:20220228T164135Z
LAST-MODIFIED:20220228T164135Z
UID:1155-1649768400-1649775600@wegustafson-dmin.entospress.com
SUMMARY:Reading and Writing Fiction as a Road to Truth (The Wisdom Weaver)
DESCRIPTION:No single path leads to truth. Reading and writing novels have taught me that the road linking fiction and truth goes both ways and illuminates in both directions.  Session 1 explores my search for truth through writing Community of Promise: The Untold Story of Moses\, and Session 2\, through writing The Wisdom Weaver.  Both novels are set at the time of the Exodus and you may be surprised by the truth revealed. Testimonial: “Wayne provides fascinating insight into the writing process\, allowing interactive discussion with participants\, along with wonderful readings from each novel.”   
URL:https://wegustafson-dmin.entospress.com/event/reading-and-writing-fiction-as-a-road-to-truth-the-wisdom-weaver/
LOCATION:Zoom videoconferencing
END:VEVENT
BEGIN:VEVENT
DTSTART;TZID=UTC:20220405T130000
DTEND;TZID=UTC:20220405T150000
DTSTAMP:20260420T025741
CREATED:20220228T163817Z
LAST-MODIFIED:20220228T164159Z
UID:1152-1649163600-1649170800@wegustafson-dmin.entospress.com
SUMMARY:Reading and Writing Fiction as a Road to Truth (Community of Promise)
DESCRIPTION:No single path leads to truth. Reading and writing novels have taught me that the road linking fiction and truth goes both ways and illuminates in both directions.  Session 1 explores my search for truth through writing Community of Promise: The Untold Story of Moses\, and Session 2\, through writing The Wisdom Weaver.  Both novels are set at the time of the Exodus and you may be surprised by the truth revealed. Testimonial: “Wayne provides fascinating insight into the writing process\, allowing interactive discussion with participants\, along with wonderful readings from each novel.”   
URL:https://wegustafson-dmin.entospress.com/event/reading-and-writing-fiction-as-a-road-to-truth-community-of-promise/
LOCATION:Zoom videoconferencing
END:VEVENT
BEGIN:VEVENT
DTSTART;TZID=UTC:20220119T183000
DTEND;TZID=UTC:20220323T204500
DTSTAMP:20260420T025741
CREATED:20211130T171404Z
LAST-MODIFIED:20211130T171429Z
UID:1082-1642617000-1648068300@wegustafson-dmin.entospress.com
SUMMARY:Family Systems and Pastoral Leadership
DESCRIPTION:The New York School of Ministry\nFamily Systems and Pastoral Leadership\nInstructor\, Wayne E. Gustafson\, DMin\, LMHC\nWednesday evenings 6:30 – 8:45 PM from Jan 19 to March 23\, 2022 (except Ash Wednesday\, March 2)\nThis course makes use of Bowenian Family Systems Theory to view the functional emotional process of congregational systems and to lay the foundation for non-anxious leadership and pastoral care.  It will also focus on how Family Systems Theory helps pastors be as healthy as they can be in ministry and how they can use their personal process of “differentiation” to maximize their leadership capacities in congregations. \nClick Here for Course\, Registration\, and Cost Details\n 
URL:https://wegustafson-dmin.entospress.com/event/family-systems-and-pastoral-leadership/
LOCATION:Zoom videoconferencing
CATEGORIES:For Ministers
END:VEVENT
BEGIN:VEVENT
DTSTART;TZID=America/New_York:20210920T080000
DTEND;TZID=America/New_York:20211113T170000
DTSTAMP:20260420T025741
CREATED:20210610T130739Z
LAST-MODIFIED:20210611T155618Z
UID:1029-1632124800-1636822800@wegustafson-dmin.entospress.com
SUMMARY:Spiritually Integrated Psychotherapy (SIP) Consultation - September 20 2021
DESCRIPTION:10 hours of SIP Consultation by Zoom beginning September 20 \n4 hours Individual and 3 2-hour groups\nScheduled between September 20 and November 13\, 2021\nClick here for Details \nwith Wayne E. Gustafson\, DMin\, LMHC\nSIP Trainer\, Ithaca\, NY \nRegistration and Payment directly with Dr. Gustafson\ndr.w.gustafson@gmail.com
URL:https://wegustafson-dmin.entospress.com/event/spiritually-integrated-psychotherapy-sip-consultation-september-20-2021/
LOCATION:Zoom videoconferencing
END:VEVENT
BEGIN:VEVENT
DTSTART;TZID=America/New_York:20210719T080000
DTEND;TZID=America/New_York:20210911T170000
DTSTAMP:20260420T025741
CREATED:20210610T125649Z
LAST-MODIFIED:20210611T160016Z
UID:1018-1626681600-1631379600@wegustafson-dmin.entospress.com
SUMMARY:Spiritually Integrated Psychotherapy (SIP) Consultation - July 19 2021
DESCRIPTION:10 hours of SIP Consultation by Zoom beginning July 19 \n4 hours Individual and 3 2-hour groups\nScheduled between July 19 and September 11\, 2021\nClick Here for details. \nwith Wayne E. Gustafson\, DMin\, LMHC\nSIP Trainer\, Ithaca\, NY \nRegistration and Payment directly with Dr. Gustafson\ndr.w.gustafson@gmail.com
URL:https://wegustafson-dmin.entospress.com/event/spiritually-integrated-psychotherapy-sip-consultation/
LOCATION:Zoom videoconferencing
CATEGORIES:For Psychotherapists
END:VEVENT
BEGIN:VEVENT
DTSTART;TZID=America/New_York:20210716T190000
DTEND;TZID=America/New_York:20210718T150000
DTSTAMP:20260420T025741
CREATED:20210610T132313Z
LAST-MODIFIED:20210610T132313Z
UID:1015-1626462000-1626620400@wegustafson-dmin.entospress.com
SUMMARY:Workshops in Tonawanda\, NY
DESCRIPTION:I will be at  Zion United Church of Christ in Tonawanda\, NY July 16\, 17\, 18\, 2021 \nFriday 7 – 9\, Introduction to Basic Training in Lay Pastoral Care \nSaturday 9 – 4\, Basic Training in Lay Pastoral Care. \nSunday after church (3 hour workshop in “Spirituality for You and Me” – dealing with the practicalities of spirituality. \n  \nThere is no cost. \nTo register call the church office at 716-836-6220 or by e-mail at ucczion@gmail.com \n 
URL:https://wegustafson-dmin.entospress.com/event/workshops-in-tonawanda-ny/
LOCATION:Zion United Church of Christ\, Tonawanda\, NY\, 15\, Koenig Circle\, Tonawanda\, NY\, United States
END:VEVENT
BEGIN:VEVENT
DTSTART;TZID=America/New_York:20210522T090000
DTEND;TZID=America/New_York:20210522T121500
DTSTAMP:20260420T025741
CREATED:20210422T133643Z
LAST-MODIFIED:20210422T150133Z
UID:976-1621674000-1621685700@wegustafson-dmin.entospress.com
SUMMARY:Working with Spiritual Struggles
DESCRIPTION:Continuing Education for Ministers and those Preparing for Ministry\nTaught by Rev. Wayne E. Gustafson\, DMin\, LMHC\nClick here for Registration\n  \nCourse Description\nParishioners frequently come to their pastors for help with particular spiritual struggles: how to recover a sense of meaning or purpose when life events have challenged their core beliefs and values; how to make difficult decisions that bring them into conflict with their personal beliefs or their religious community; how to recover when they have been harmed by a religious leader or a religious community. \nCourse Learning Objectives\nAt the conclusion of this course\, participants will be able to: \n\nRecognize and describe spiritual struggles.\nIdentify spiritual struggles commonly encountered in parishioners.\nIdentify and begin using helpful strategies for addressing spiritual struggles in ethical and effective ways.\n\nThe course provides 3 hours of continuing education for authorized ministers whose associations require it. \nThis curriculum is taken from “Spiritually Integrated Psychotherapy\,” a 30 hour training program for psychotherapists offered by “ACPE: The Standard for Spiritual Care and Education.” Primary authors: Russell Siler Jones\, ThD\, LPCS and Jill Snodgrass\, MDiv\, MA\, PhD.  \nThis course has been modified by Dr. Gustafson for pastoral ministry with permission. \nTechnology:\nThis course uses the platform Zoom. You do not need to have a Zoom account to participate in the course. You do need to have a webcam. If you have questions about video-conferenced courses or would like to set up a test to see how Zoom works on your computer\, please email Rev. Marjorie Purnine\, Dean of the New York School of Ministry\, at mpurnine@uccny.org.
URL:https://wegustafson-dmin.entospress.com/event/working-with-spiritual-struggles/
LOCATION:Zoom videoconferencing
CATEGORIES:For Ministers
END:VEVENT
END:VCALENDAR