BEGIN:VCALENDAR
VERSION:2.0
PRODID:-//Wayne E. Gustafson, DMin, LMHC - Education - ECPv6.15.20//NONSGML v1.0//EN
CALSCALE:GREGORIAN
METHOD:PUBLISH
X-WR-CALNAME:Wayne E. Gustafson, DMin, LMHC - Education
X-ORIGINAL-URL:https://wegustafson-dmin.entospress.com
X-WR-CALDESC:Events for Wayne E. Gustafson, DMin, LMHC - Education
REFRESH-INTERVAL;VALUE=DURATION:PT1H
X-Robots-Tag:noindex
X-PUBLISHED-TTL:PT1H
BEGIN:VTIMEZONE
TZID:Asia/Dubai
BEGIN:STANDARD
TZOFFSETFROM:+0400
TZOFFSETTO:+0400
TZNAME:+04
DTSTART:20250101T000000
END:STANDARD
END:VTIMEZONE
BEGIN:VEVENT
DTSTART;TZID=Asia/Dubai:20260502T093000
DTEND;TZID=Asia/Dubai:20260516T123000
DTSTAMP:20260420T010917
CREATED:20250604T153037Z
LAST-MODIFIED:20251221T152921Z
UID:1632-1777714200-1778934600@wegustafson-dmin.entospress.com
SUMMARY:ACPE Spiritually Integrated Psychotherapy Training - Level 1
DESCRIPTION:ACPE Spiritually Integrated Psychotherapy (SIP) Training\nLevel 1\, 15 hours by Zoom beginning May 2\, 2026 \nWhy:    Recent research demonstrates the importance of recognizing and working with spiritual issues that clients inevitably bring to psychotherapy\, yet many psychotherapists do not have the training and confidence to deal with spiritual or religious issues without promoting or imposing their own beliefs and values. \nWhat:  ACPE: The Standard for Spiritual Care and Education\, (www.acpe.edu)\, drawing on the wisdom of seasoned clinicians and faculty in accredited Pastoral Counseling and Psychotherapy degree programs\, has created an in-depth 30-hour (in two 15 hour levels) training program in Spiritually Integrated Psychotherapy (SIP).\nThank you to Crossroads of Caring\, Inc.\, Rochester\, NY for assistance in promoting this training. \nWho:    Licensed and pre-licensed psychotherapists\, counselors\, mental health/ health professionals\, case managers\, substance abuse counselors\, etc. \nA detailed SIP Training description is found here:\nhttps://acpe.edu/education/psychotherapy/spiritual-integrated-psychotherapy \nCE information is listed at the registration site:\nhttps://sip-com.wildapricot.org/event-6451647 \nFollowing completion of Levels 1 and 2 of basic SIP training\, Individual and group consultation with SIP Trainers is available for those who wish to become SIP Certified by ACPE. \nWhen:  Five 3-hour sessions for Level 1\, May 2\, 9\, 16\, 2026\n(See detailed schedule below) \nSIP Trainer: Wayne E. Gustafson\, DMin\, LMHC\nDr. Gustafson is an ordained minister in the United Church of Christ and a Licensed Mental Health Counselor in NY. His career includes Prison Chaplaincy\, Pastoral Psychotherapy\, Interim Ministry\, College Instructor in Psychology\, Instructor of Pastoral Care in the New York School of Ministry (United Church of Christ)\, and ACPE authorized SIP Trainer. \nCost:     $400 per person for each of two levels and includes all course materials and CEUs.\nRegister separately for each 15 hour level.\nA limited number of partial scholarships available for those in need.\nRegistration is limited to 21 participants so register early! \nHave questions or want to register?\nemail Dr. Gustafson at: wayne.gustafson@acpe.edu \nSee additional program and registration information here:\nhttps://sip-com.wildapricot.org/events \n\n\n\nLevel 1\nAll times Eastern\n\n\nMay 2\, 2026\n9:30 AM – 12:30 PM\n\n\nMay 2\, 2026\n1:30 – 4:30 PM\n\n\nMay 9\, 2026\n9:30 AM – 12:30 PM\n\n\nMay 9\, 2026\n1:30 – 4:30 PM\n\n\nMay 16\, 2026\n9:30 AM – 12:30 PM\n\n\n\n 
URL:https://wegustafson-dmin.entospress.com/event/acpe-spiritually-integrated-psychotherapy-training-level-1/
LOCATION:Zoom videoconferencing
CATEGORIES:For Psychotherapists
END:VEVENT
BEGIN:VEVENT
DTSTART;TZID=Asia/Dubai:20260530T093000
DTEND;TZID=Asia/Dubai:20260620T163000
DTSTAMP:20260420T010917
CREATED:20250604T154221Z
LAST-MODIFIED:20251221T155030Z
UID:1635-1780133400-1781973000@wegustafson-dmin.entospress.com
SUMMARY:ACPE Spiritually Integrated Psychotherapy Training - Level 2
DESCRIPTION:ACPE Spiritually Integrated Psychotherapy (SIP) Training\nLevel 2\, 15 hours by Zoom beginning May 30\, 2026 \nWhy:    Recent research demonstrates the importance of recognizing and working with spiritual issues that clients inevitably bring to psychotherapy\, yet many psychotherapists do not have the training and confidence to deal with spiritual or religious issues without promoting or imposing their own beliefs and values. \nWhat:  ACPE: The Standard for Spiritual Care and Education\, (www.acpe.edu)\, drawing on the wisdom of seasoned clinicians and faculty in accredited Pastoral Counseling and Psychotherapy degree programs\, has created an in-depth 30-hour (in two 15 hour levels) training program in Spiritually Integrated Psychotherapy (SIP).\nThank you to Crossroads of Caring\, Inc.\, Rochester\, NY for assistance in promoting this training. \nWho:    Licensed and pre-licensed psychotherapists\, counselors\, mental health/ health professionals\, case managers\, substance abuse counselors\, etc. \nA detailed SIP Training description is found here:\nhttps://acpe.edu/education/psychotherapy/spiritual-integrated-psychotherapy \nCE information is listed at the registration site:\nhttps://sip-com.wildapricot.org/event-6451647 \nFollowing completion of Levels 1 and 2 of basic SIP training\, Individual and group consultation with SIP Trainers are available for those who wish to become SIP Certified by ACPE. \nWhen:  Five 3-hour sessions for Level 2\, May 30\, June 6\, 2026\, an additional 3-hour course TBS between June 13 and 20 \n(See detailed schedule below) \nSIP Trainer: Wayne E. Gustafson\, DMin\, LMHC\nDr. Gustafson is an ordained minister in the United Church of Christ and a Licensed Mental Health Counselor in NY. His career includes Prison Chaplaincy\, Pastoral Psychotherapy\, Interim Ministry\, College Instructor in Psychology\, Instructor of Pastoral Care in the New York School of Ministry (United Church of Christ)\, and ACPE authorized SIP Trainer. \nCost:     $400 per person for each of two levels and includes all course materials and CEUs. Register separately for each 15 hour level.\nA limited number of partial scholarships available for those in need.\nRegistration is limited to 21 participants so register early! \nHave questions or want to register?\nemail Dr. Gustafson at: wayne.gustafson@acpe.edu \nSee additional program and registration information here:\nhttps://sip-com.wildapricot.org/events\n \n\n\n\nLevel 2\n All times are Eastern\n\n\nMay 30\, 2026\n9:30 AM – 12:30 PM\n\n\nMay 30\, 2026\n1:30 – 4:30 PM\n\n\nJune 6\, 2026\n9:30 AM – 12:30 PM\n\n\nJune 6\, 2026\n1:30 – 4:30 PM\n\n\nGroups of 3\, between\nJune 13 and 20\, 2026\n3 hours TBS\n\n\n\n 
URL:https://wegustafson-dmin.entospress.com/event/acpe-spiritually-integrated-psychotherapy-training-level-2/
LOCATION:Zoom videoconferencing
CATEGORIES:For Psychotherapists
END:VEVENT
END:VCALENDAR