BEGIN:VCALENDAR
VERSION:2.0
PRODID:-//Wayne E. Gustafson, DMin, LMHC - Education - ECPv6.15.20//NONSGML v1.0//EN
CALSCALE:GREGORIAN
METHOD:PUBLISH
X-WR-CALNAME:Wayne E. Gustafson, DMin, LMHC - Education
X-ORIGINAL-URL:https://wegustafson-dmin.entospress.com
X-WR-CALDESC:Events for Wayne E. Gustafson, DMin, LMHC - Education
REFRESH-INTERVAL;VALUE=DURATION:PT1H
X-Robots-Tag:noindex
X-PUBLISHED-TTL:PT1H
BEGIN:VTIMEZONE
TZID:America/New_York
BEGIN:DAYLIGHT
TZOFFSETFROM:-0500
TZOFFSETTO:-0400
TZNAME:EDT
DTSTART:20240310T070000
END:DAYLIGHT
BEGIN:STANDARD
TZOFFSETFROM:-0400
TZOFFSETTO:-0500
TZNAME:EST
DTSTART:20241103T060000
END:STANDARD
BEGIN:DAYLIGHT
TZOFFSETFROM:-0500
TZOFFSETTO:-0400
TZNAME:EDT
DTSTART:20250309T070000
END:DAYLIGHT
BEGIN:STANDARD
TZOFFSETFROM:-0400
TZOFFSETTO:-0500
TZNAME:EST
DTSTART:20251102T060000
END:STANDARD
BEGIN:DAYLIGHT
TZOFFSETFROM:-0500
TZOFFSETTO:-0400
TZNAME:EDT
DTSTART:20260308T070000
END:DAYLIGHT
BEGIN:STANDARD
TZOFFSETFROM:-0400
TZOFFSETTO:-0500
TZNAME:EST
DTSTART:20261101T060000
END:STANDARD
END:VTIMEZONE
BEGIN:VEVENT
DTSTART;TZID=America/New_York:20250701T080000
DTEND;TZID=America/New_York:20250831T170000
DTSTAMP:20260425T154059
CREATED:20250604T153534Z
LAST-MODIFIED:20250604T153534Z
UID:1618-1751356800-1756659600@wegustafson-dmin.entospress.com
SUMMARY:ACPE Spiritually Integrated Psychotherapy Individual/Group Consultation Package
DESCRIPTION:SIP Trainer Wayne Gustafson\, DMin\, LMHC\, is offering by Zoom an Individual/Group consultation package during January/February 2025. Consultation is for those who have completed Level 1 and Level 2 SIP Training and are pursuing ACPE SIP Certification. \nThis program is not available for NBCC credit. \nThis consultation package includes \n\nA total of 10-14 hours of consultation\, schedule determined by participants.\n4 individual consultation sessions\n2-hour group consultation sessions (groups include 3-5 participants\, and the number of group sessions depends on the number of participants)\nOne Individual or group session will be scheduled each week.\nEach participant will have four opportunities to present cases (using the template from SIP Courses 2.4 and 2.5).\n\nCost: $600 for the full package no matter how many groups take place. \nContact Wayne Gustafson for additional Information and registration: dr.w.gustafson@gmail.com \nFor the listing on the ACPE website: Click here.
URL:https://wegustafson-dmin.entospress.com/event/acpe-spiritually-integrated-psychotherapy-individual-group-consultation-package/
LOCATION:Zoom videoconferencing
CATEGORIES:For Psychotherapists
END:VEVENT
END:VCALENDAR